View In:
ArcGIS JavaScript
ArcGIS Online Map Viewer
ArcGIS Earth
ArcGIS Pro
Service Description:
Map Name: Map
Legend
All Layers and Tables
Layers:
Description:
Service Item Id: b8a8f88cc68540b89427e450f13687d0
Copyright Text:
Spatial Reference:
0
(0)
LatestVCSWkid(0)
Single Fused Map Cache: true
Tile Info:
- Height: 256
- Width: 256
- DPI: 96
-
Levels of Detail: 19
-
Level ID: 0
[ Start Tile, End Tile ]
- Resolution: 975837.5034154874
- Scale: 1.1241648039346414E9
-
Level ID: 1
[ Start Tile, End Tile ]
- Resolution: 487918.7517077437
- Scale: 5.620824019673207E8
-
Level ID: 2
[ Start Tile, End Tile ]
- Resolution: 243959.37585387184
- Scale: 2.8104120098366034E8
-
Level ID: 3
[ Start Tile, End Tile ]
- Resolution: 121979.68792693592
- Scale: 1.4052060049183017E8
-
Level ID: 4
[ Start Tile, End Tile ]
- Resolution: 60989.84396346796
- Scale: 7.026030024591509E7
-
Level ID: 5
[ Start Tile, End Tile ]
- Resolution: 30494.92198173398
- Scale: 3.513015012295754E7
-
Level ID: 6
[ Start Tile, End Tile ]
- Resolution: 15247.46099086699
- Scale: 1.756507506147877E7
-
Level ID: 7
[ Start Tile, End Tile ]
- Resolution: 7623.730495433495
- Scale: 8782537.530739386
-
Level ID: 8
[ Start Tile, End Tile ]
- Resolution: 3811.8652477167475
- Scale: 4391268.765369693
-
Level ID: 9
[ Start Tile, End Tile ]
- Resolution: 1905.9326238583737
- Scale: 2195634.3826848464
-
Level ID: 10
[ Start Tile, End Tile ]
- Resolution: 952.9663119291869
- Scale: 1097817.1913424232
-
Level ID: 11
[ Start Tile, End Tile ]
- Resolution: 476.48315596459344
- Scale: 548908.5956712116
-
Level ID: 12
[ Start Tile, End Tile ]
- Resolution: 238.24157798229672
- Scale: 274454.2978356058
-
Level ID: 13
[ Start Tile, End Tile ]
- Resolution: 119.12078899114836
- Scale: 137227.1489178029
-
Level ID: 14
[ Start Tile, End Tile ]
- Resolution: 59.56039449557418
- Scale: 68613.57445890145
-
Level ID: 15
[ Start Tile, End Tile ]
- Resolution: 29.78019724778709
- Scale: 34306.787229450725
-
Level ID: 16
[ Start Tile, End Tile ]
- Resolution: 14.890098623893545
- Scale: 17153.393614725363
-
Level ID: 17
[ Start Tile, End Tile ]
- Resolution: 7.445049311946772
- Scale: 8576.696807362681
-
Level ID: 18
[ Start Tile, End Tile ]
- Resolution: 3.722524655973386
- Scale: 4288.348403681341
- Format: Mixed
- Compression Quality: 75.0
- Origin: X: -1.2290720043718238E8
Y: 1.0518200944375902E8
- Spatial Reference: 0
(0)
LatestVCSWkid(0)
Storage Info:
- Storage Format: esriMapCacheStorageModeCompactV2
- Packet Size: 128
Initial Extent:
XMin: 2060591.869562361
YMin: 131918.08592625795
XMax: 2110426.513186363
YMax: 163689.34129834297
Spatial Reference: 0
(0)
LatestVCSWkid(0)
Full Extent:
XMin: 2045478.7492373448
YMin: 96272.65773256269
XMax: 2106189.02503008
YMax: 162245.1933268846
Spatial Reference: 0
(0)
LatestVCSWkid(0)
Units: esriFeet
Supported Image Format Types: PNG32,PNG24,PNG,JPG,DIB,TIFF,EMF,PS,PDF,GIF,SVG,SVGZ,BMP
Document Info:
Title: Map
Author:
Comments:
Subject:
Category:
Keywords:
AntialiasingMode: Fast
TextAntialiasingMode: Force
Supports Dynamic Layers: false
MaxRecordCount: 1000
MaxImageHeight: 4096
MaxImageWidth: 4096
Supported Query Formats: JSON, geoJSON, PBF
Supports Query Data Elements: true
Min Scale: 137227.1489178029
Max Scale: 4288.348403681341
Min LOD: 13
Max LOD: 18
Supports Datum Transformation: true
Child Resources:
Info
Supported Operations:
QueryLegends
Return Updates