{
 "currentVersion": 10.91,
 "cimVersion": "2.9.0",
 "serviceDescription": "",
 "mapName": "Map",
 "description": "",
 "copyrightText": "",
 "supportsDynamicLayers": false,
 "layers": [
  {
   "id": 0,
   "name": "Hilton Head Plantation Master Plan",
   "parentLayerId": -1,
   "defaultVisibility": true,
   "subLayerIds": null,
   "minScale": 0,
   "maxScale": 0,
   "type": "Raster Layer",
   "supportsDynamicLegends": true
  },
  {
   "id": 1,
   "name": "Indigo Run Master Plan",
   "parentLayerId": -1,
   "defaultVisibility": true,
   "subLayerIds": null,
   "minScale": 0,
   "maxScale": 0,
   "type": "Raster Layer",
   "supportsDynamicLegends": true
  },
  {
   "id": 2,
   "name": "Long Cove Master Plan",
   "parentLayerId": -1,
   "defaultVisibility": false,
   "subLayerIds": null,
   "minScale": 0,
   "maxScale": 0,
   "type": "Raster Layer",
   "supportsDynamicLegends": true
  },
  {
   "id": 3,
   "name": "Palmetto Dunes Master Plan",
   "parentLayerId": -1,
   "defaultVisibility": false,
   "subLayerIds": null,
   "minScale": 0,
   "maxScale": 0,
   "type": "Raster Layer",
   "supportsDynamicLegends": true
  },
  {
   "id": 4,
   "name": "Palmetto Hall Master Plan",
   "parentLayerId": -1,
   "defaultVisibility": false,
   "subLayerIds": null,
   "minScale": 0,
   "maxScale": 0,
   "type": "Raster Layer",
   "supportsDynamicLegends": true
  },
  {
   "id": 5,
   "name": "Port Royal Plantation Master Plan",
   "parentLayerId": -1,
   "defaultVisibility": false,
   "subLayerIds": null,
   "minScale": 0,
   "maxScale": 0,
   "type": "Raster Layer",
   "supportsDynamicLegends": true
  },
  {
   "id": 6,
   "name": "Sea Pines Master Plan",
   "parentLayerId": -1,
   "defaultVisibility": false,
   "subLayerIds": null,
   "minScale": 0,
   "maxScale": 0,
   "type": "Raster Layer",
   "supportsDynamicLegends": true
  },
  {
   "id": 7,
   "name": "Shipyard Master Plan",
   "parentLayerId": -1,
   "defaultVisibility": false,
   "subLayerIds": null,
   "minScale": 0,
   "maxScale": 0,
   "type": "Raster Layer",
   "supportsDynamicLegends": true
  },
  {
   "id": 8,
   "name": "Spanish Wells Master Plan",
   "parentLayerId": -1,
   "defaultVisibility": false,
   "subLayerIds": null,
   "minScale": 0,
   "maxScale": 0,
   "type": "Raster Layer",
   "supportsDynamicLegends": true
  },
  {
   "id": 9,
   "name": "Wexford Master Plan",
   "parentLayerId": -1,
   "defaultVisibility": false,
   "subLayerIds": null,
   "minScale": 0,
   "maxScale": 0,
   "type": "Raster Layer",
   "supportsDynamicLegends": true
  },
  {
   "id": 10,
   "name": "Windmill Harbor Master Plan",
   "parentLayerId": -1,
   "defaultVisibility": false,
   "subLayerIds": null,
   "minScale": 0,
   "maxScale": 0,
   "type": "Raster Layer",
   "supportsDynamicLegends": true
  }
 ],
 "tables": [],
 "spatialReference": {
  "wkt": "PROJCS[\"NAD_1983_StatePlane_South_Carolina_FIPS_3900\",GEOGCS[\"GCS_North_American_1983\",DATUM[\"D_North_American_1983\",SPHEROID[\"GRS_1980\",6378137.0,298.257222101]],PRIMEM[\"Greenwich\",0.0],UNIT[\"Degree\",0.0174532925199433]],PROJECTION[\"Lambert_Conformal_Conic\"],PARAMETER[\"False_Easting\",2000000.0],PARAMETER[\"False_Northing\",0.0],PARAMETER[\"Central_Meridian\",-81.0],PARAMETER[\"Standard_Parallel_1\",32.5],PARAMETER[\"Standard_Parallel_2\",34.83333333333334],PARAMETER[\"Latitude_Of_Origin\",31.83333333333333],UNIT[\"Foot\",0.3048]]",
  "xyTolerance": 0.0032808398950131233,
  "zTolerance": 0.001,
  "mTolerance": 0.001,
  "falseX": -122907600,
  "falseY": -92800700,
  "xyUnits": 3048,
  "falseZ": -100000,
  "zUnits": 10000,
  "falseM": -100000,
  "mUnits": 10000
 },
 "singleFusedMapCache": true,
 "tileInfo": {
  "rows": 256,
  "cols": 256,
  "dpi": 96,
  "format": "Mixed",
  "compressionQuality": 75,
  "origin": {
   "x": -1.2290720043718238E8,
   "y": 1.0518200944375902E8
  },
  "spatialReference": {
   "wkt": "PROJCS[\"NAD_1983_StatePlane_South_Carolina_FIPS_3900\",GEOGCS[\"GCS_North_American_1983\",DATUM[\"D_North_American_1983\",SPHEROID[\"GRS_1980\",6378137.0,298.257222101]],PRIMEM[\"Greenwich\",0.0],UNIT[\"Degree\",0.0174532925199433]],PROJECTION[\"Lambert_Conformal_Conic\"],PARAMETER[\"False_Easting\",2000000.0],PARAMETER[\"False_Northing\",0.0],PARAMETER[\"Central_Meridian\",-81.0],PARAMETER[\"Standard_Parallel_1\",32.5],PARAMETER[\"Standard_Parallel_2\",34.83333333333334],PARAMETER[\"Latitude_Of_Origin\",31.83333333333333],UNIT[\"Foot\",0.3048]]",
   "xyTolerance": 0.0032808398950131233,
   "zTolerance": 0.001,
   "mTolerance": 0.001,
   "falseX": -122907600,
   "falseY": -92800700,
   "xyUnits": 3048,
   "falseZ": -100000,
   "zUnits": 10000,
   "falseM": -100000,
   "mUnits": 10000
  },
  "lods": [
   {
    "level": 0,
    "resolution": 975837.5034154874,
    "scale": 1.1241648039346414E9
   },
   {
    "level": 1,
    "resolution": 487918.7517077437,
    "scale": 5.620824019673207E8
   },
   {
    "level": 2,
    "resolution": 243959.37585387184,
    "scale": 2.8104120098366034E8
   },
   {
    "level": 3,
    "resolution": 121979.68792693592,
    "scale": 1.4052060049183017E8
   },
   {
    "level": 4,
    "resolution": 60989.84396346796,
    "scale": 7.026030024591509E7
   },
   {
    "level": 5,
    "resolution": 30494.92198173398,
    "scale": 3.513015012295754E7
   },
   {
    "level": 6,
    "resolution": 15247.46099086699,
    "scale": 1.756507506147877E7
   },
   {
    "level": 7,
    "resolution": 7623.730495433495,
    "scale": 8782537.530739386
   },
   {
    "level": 8,
    "resolution": 3811.8652477167475,
    "scale": 4391268.765369693
   },
   {
    "level": 9,
    "resolution": 1905.9326238583737,
    "scale": 2195634.3826848464
   },
   {
    "level": 10,
    "resolution": 952.9663119291869,
    "scale": 1097817.1913424232
   },
   {
    "level": 11,
    "resolution": 476.48315596459344,
    "scale": 548908.5956712116
   },
   {
    "level": 12,
    "resolution": 238.24157798229672,
    "scale": 274454.2978356058
   },
   {
    "level": 13,
    "resolution": 119.12078899114836,
    "scale": 137227.1489178029
   },
   {
    "level": 14,
    "resolution": 59.56039449557418,
    "scale": 68613.57445890145
   },
   {
    "level": 15,
    "resolution": 29.78019724778709,
    "scale": 34306.787229450725
   },
   {
    "level": 16,
    "resolution": 14.890098623893545,
    "scale": 17153.393614725363
   },
   {
    "level": 17,
    "resolution": 7.445049311946772,
    "scale": 8576.696807362681
   },
   {
    "level": 18,
    "resolution": 3.722524655973386,
    "scale": 4288.348403681341
   }
  ]
 },
 "storageInfo": {
  "storageFormat": "esriMapCacheStorageModeCompactV2",
  "packetSize": 128
 },
 "initialExtent": {
  "xmin": 2060591.869562361,
  "ymin": 131918.08592625795,
  "xmax": 2110426.513186363,
  "ymax": 163689.34129834297,
  "spatialReference": {
   "wkt": "PROJCS[\"NAD_1983_StatePlane_South_Carolina_FIPS_3900\",GEOGCS[\"GCS_North_American_1983\",DATUM[\"D_North_American_1983\",SPHEROID[\"GRS_1980\",6378137.0,298.257222101]],PRIMEM[\"Greenwich\",0.0],UNIT[\"Degree\",0.0174532925199433]],PROJECTION[\"Lambert_Conformal_Conic\"],PARAMETER[\"False_Easting\",2000000.0],PARAMETER[\"False_Northing\",0.0],PARAMETER[\"Central_Meridian\",-81.0],PARAMETER[\"Standard_Parallel_1\",32.5],PARAMETER[\"Standard_Parallel_2\",34.83333333333334],PARAMETER[\"Latitude_Of_Origin\",31.83333333333333],UNIT[\"Foot\",0.3048]]",
   "xyTolerance": 0.0032808398950131233,
   "zTolerance": 0.001,
   "mTolerance": 0.001,
   "falseX": -122907600,
   "falseY": -92800700,
   "xyUnits": 3048,
   "falseZ": -100000,
   "zUnits": 10000,
   "falseM": -100000,
   "mUnits": 10000
  }
 },
 "fullExtent": {
  "xmin": 2045478.7492373448,
  "ymin": 96272.65773256269,
  "xmax": 2106189.02503008,
  "ymax": 162245.1933268846,
  "spatialReference": {
   "wkt": "PROJCS[\"NAD_1983_StatePlane_South_Carolina_FIPS_3900\",GEOGCS[\"GCS_North_American_1983\",DATUM[\"D_North_American_1983\",SPHEROID[\"GRS_1980\",6378137.0,298.257222101]],PRIMEM[\"Greenwich\",0.0],UNIT[\"Degree\",0.0174532925199433]],PROJECTION[\"Lambert_Conformal_Conic\"],PARAMETER[\"False_Easting\",2000000.0],PARAMETER[\"False_Northing\",0.0],PARAMETER[\"Central_Meridian\",-81.0],PARAMETER[\"Standard_Parallel_1\",32.5],PARAMETER[\"Standard_Parallel_2\",34.83333333333334],PARAMETER[\"Latitude_Of_Origin\",31.83333333333333],UNIT[\"Foot\",0.3048]]",
   "xyTolerance": 0.0032808398950131233,
   "zTolerance": 0.001,
   "mTolerance": 0.001,
   "falseX": -122907600,
   "falseY": -92800700,
   "xyUnits": 3048,
   "falseZ": -100000,
   "zUnits": 10000,
   "falseM": -100000,
   "mUnits": 10000
  }
 },
 "datesInUnknownTimezone": false,
 "units": "esriFeet",
 "supportedImageFormatTypes": "PNG32,PNG24,PNG,JPG,DIB,TIFF,EMF,PS,PDF,GIF,SVG,SVGZ,BMP",
 "documentInfo": {
  "Title": "Map",
  "Author": "",
  "Comments": "",
  "Subject": "",
  "Category": "",
  "AntialiasingMode": "Fast",
  "TextAntialiasingMode": "Force",
  "Version": "2.9.0",
  "Keywords": ""
 },
 "supportedQueryFormats": "JSON, geoJSON, PBF",
 "referenceScale": 0.0,
 "datumTransformations": [
  {
   "geoTransforms": [
    {
     "wkid": 108190,
     "latestWkid": 108190,
     "transformForward": true,
     "name": "WGS_1984_(ITRF00)_To_NAD_1983"
    }
   ]
  },
  {
   "geoTransforms": [
    {
     "wkid": 108190,
     "latestWkid": 108190,
     "transformForward": false,
     "name": "WGS_1984_(ITRF00)_To_NAD_1983"
    }
   ]
  }
 ],
 "supportsDatumTransformation": true,
 "archivingInfo": {
  "supportsHistoricMoment": false
 },
 "supportsClipping": true,
 "supportsSpatialFilter": true,
 "supportsTimeRelation": true,
 "supportsQueryDataElements": true,
 "maxRecordCount": 1000,
 "maxImageHeight": 4096,
 "maxImageWidth": 4096,
 "capabilities": "TilesOnly,Tilemap",
 "minScale": 137227.1489178029,
 "maxScale": 4288.348403681341,
 "exportTilesAllowed": false,
 "maxExportTilesCount": 100000,
 "minLOD": 13,
 "maxLOD": 18,
 "supportedExtensions": "",
 "serviceItemId": "b8a8f88cc68540b89427e450f13687d0"
}
