View In:
ArcGIS JavaScript
ArcGIS Online Map Viewer
ArcGIS Earth
ArcGIS Pro
Service Description:
Map Name: Fulcrom
Legend
All Layers and Tables
Layers:
Description:
Service Item Id: 8878618893394a6cb5131aaaedf55e85
Copyright Text:
Spatial Reference:
2273
(2273)
LatestVCSWkid(0)
Single Fused Map Cache: true
Tile Info:
- Height: 256
- Width: 256
- DPI: 96
-
Levels of Detail: 19
-
Level ID: 0
[ Start Tile, End Tile ]
- Resolution: 975837.5034154871
- Scale: 1.1241648039346411E9
-
Level ID: 1
[ Start Tile, End Tile ]
- Resolution: 487918.75170774356
- Scale: 5.620824019673206E8
-
Level ID: 2
[ Start Tile, End Tile ]
- Resolution: 243959.37585387178
- Scale: 2.810412009836603E8
-
Level ID: 3
[ Start Tile, End Tile ]
- Resolution: 121979.68792693589
- Scale: 1.4052060049183014E8
-
Level ID: 4
[ Start Tile, End Tile ]
- Resolution: 60989.843963467945
- Scale: 7.026030024591507E7
-
Level ID: 5
[ Start Tile, End Tile ]
- Resolution: 30494.921981733973
- Scale: 3.5130150122957535E7
-
Level ID: 6
[ Start Tile, End Tile ]
- Resolution: 15247.460990866986
- Scale: 1.7565075061478768E7
-
Level ID: 7
[ Start Tile, End Tile ]
- Resolution: 7623.730495433493
- Scale: 8782537.530739384
-
Level ID: 8
[ Start Tile, End Tile ]
- Resolution: 3811.8652477167466
- Scale: 4391268.765369692
-
Level ID: 9
[ Start Tile, End Tile ]
- Resolution: 1905.9326238583733
- Scale: 2195634.382684846
-
Level ID: 10
[ Start Tile, End Tile ]
- Resolution: 952.9663119291866
- Scale: 1097817.191342423
-
Level ID: 11
[ Start Tile, End Tile ]
- Resolution: 476.4831559645933
- Scale: 548908.5956712115
-
Level ID: 12
[ Start Tile, End Tile ]
- Resolution: 238.24157798229666
- Scale: 274454.29783560574
-
Level ID: 13
[ Start Tile, End Tile ]
- Resolution: 119.12078899114833
- Scale: 137227.14891780287
-
Level ID: 14
[ Start Tile, End Tile ]
- Resolution: 59.560394495574165
- Scale: 68613.57445890144
-
Level ID: 15
[ Start Tile, End Tile ]
- Resolution: 29.780197247787083
- Scale: 34306.78722945072
-
Level ID: 16
[ Start Tile, End Tile ]
- Resolution: 14.890098623893541
- Scale: 17153.39361472536
-
Level ID: 17
[ Start Tile, End Tile ]
- Resolution: 7.445049311946771
- Scale: 8576.69680736268
-
Level ID: 18
[ Start Tile, End Tile ]
- Resolution: 3.7225246559733853
- Scale: 4288.34840368134
- Format: PNG
- Compression Quality: 0.0
- Origin: X: -1.2290720043718235E8
Y: 1.0518200944375893E8
- Spatial Reference: 2273
(2273)
LatestVCSWkid(0)
Storage Info:
- Storage Format: esriMapCacheStorageModeCompactV2
- Packet Size: 128
Initial Extent:
XMin: 2019906.3486407415
YMin: 97697.89207677395
XMax: 2135627.1415167437
YMax: 160891.0439468488
Spatial Reference: 2273
(2273)
LatestVCSWkid(0)
Full Extent:
XMin: 2031078.875
YMin: 90697.81266404688
XMax: 2103233.75
YMax: 159437.9842519611
Spatial Reference: 2273
(2273)
LatestVCSWkid(0)
Units: esriFeet
Supported Image Format Types: PNG32,PNG24,PNG,JPG,DIB,TIFF,EMF,PS,PDF,GIF,SVG,SVGZ,BMP
Document Info:
Title: Map
Author:
Comments:
Subject:
Category:
Keywords:
AntialiasingMode: Fast
TextAntialiasingMode: Force
Supports Dynamic Layers: false
MaxRecordCount: 1000
MaxImageHeight: 4096
MaxImageWidth: 4096
Supported Query Formats: JSON, geoJSON, PBF
Supports Query Data Elements: true
Min Scale: 5.620824019673206E8
Max Scale: 1.7565075061478768E7
Min LOD: 1
Max LOD: 6
Supports Datum Transformation: true
Child Resources:
Info
Supported Operations:
QueryLegends
Return Updates